BEGIN:VCALENDAR
VERSION:2.0
PRODID:-//Forest Crescent PS - ECPv6.15.20//NONSGML v1.0//EN
CALSCALE:GREGORIAN
METHOD:PUBLISH
X-WR-CALNAME:Forest Crescent PS
X-ORIGINAL-URL:https://forestcrescentps.com
X-WR-CALDESC:Events for Forest Crescent PS
REFRESH-INTERVAL;VALUE=DURATION:PT1H
X-Robots-Tag:noindex
X-PUBLISHED-TTL:PT1H
BEGIN:VTIMEZONE
TZID:Australia/Perth
BEGIN:STANDARD
TZOFFSETFROM:+0800
TZOFFSETTO:+0800
TZNAME:AWST
DTSTART:20230101T000000
END:STANDARD
END:VTIMEZONE
BEGIN:VEVENT
DTSTART;TZID=Australia/Perth:20241017T084500
DTEND;TZID=Australia/Perth:20241017T094500
DTSTAMP:20260426T094224
CREATED:20241022T021509Z
LAST-MODIFIED:20241022T021509Z
UID:10005957-1729154700-1729158300@forestcrescentps.com
SUMMARY:Room 2 Junior Assembly
DESCRIPTION:Room 2 presents their item. If your child was awarded FCPS Citizen of the Month\, all parents would have been notified verbally\, and all honour certificate recipients would have received an email\, teacher\, or SMS message.
URL:https://forestcrescentps.com/event/room-2-junior-assembly/
CATEGORIES:Junior Primary
END:VEVENT
END:VCALENDAR