BEGIN:VCALENDAR
VERSION:2.0
PRODID:-//Forest Crescent PS - ECPv6.15.20//NONSGML v1.0//EN
CALSCALE:GREGORIAN
METHOD:PUBLISH
X-WR-CALNAME:Forest Crescent PS
X-ORIGINAL-URL:https://forestcrescentps.com
X-WR-CALDESC:Events for Forest Crescent PS
REFRESH-INTERVAL;VALUE=DURATION:PT1H
X-Robots-Tag:noindex
X-PUBLISHED-TTL:PT1H
BEGIN:VTIMEZONE
TZID:Australia/Perth
BEGIN:STANDARD
TZOFFSETFROM:+0800
TZOFFSETTO:+0800
TZNAME:AWST
DTSTART:20240101T000000
END:STANDARD
END:VTIMEZONE
BEGIN:VEVENT
DTSTART;TZID=Australia/Perth:20250508T084500
DTEND;TZID=Australia/Perth:20250508T094500
DTSTAMP:20260425T222832
CREATED:20250430T003359Z
LAST-MODIFIED:20250430T003610Z
UID:10006283-1746693900-1746697500@forestcrescentps.com
SUMMARY:R13 Junior Assembly
DESCRIPTION:Room 13 presents their item\, and Honour Certificates are awarded. All honour certificate recipients would have had an email\, teacher\, or SMS message sent to their parents beforehand.
URL:https://forestcrescentps.com/event/r13-junior-assembly/
CATEGORIES:Junior Primary
END:VEVENT
BEGIN:VEVENT
DTSTART;TZID=Australia/Perth:20250522T084500
DTEND;TZID=Australia/Perth:20250522T094500
DTSTAMP:20260425T222832
CREATED:20250430T005250Z
LAST-MODIFIED:20250430T005250Z
UID:10006285-1747903500-1747907100@forestcrescentps.com
SUMMARY:R7 Junior Assembly
DESCRIPTION:Room 7 presents their item\, and Honour Certificates are awarded. All honour certificate recipients would have had an email\, teacher\, or SMS message sent to their parents beforehand.
URL:https://forestcrescentps.com/event/r7-junior-assembly/
CATEGORIES:Junior Primary
END:VEVENT
END:VCALENDAR