BEGIN:VCALENDAR
VERSION:2.0
PRODID:-//Forest Crescent PS - ECPv6.15.20//NONSGML v1.0//EN
CALSCALE:GREGORIAN
METHOD:PUBLISH
X-ORIGINAL-URL:https://forestcrescentps.com
X-WR-CALDESC:Events for Forest Crescent PS
REFRESH-INTERVAL;VALUE=DURATION:PT1H
X-Robots-Tag:noindex
X-PUBLISHED-TTL:PT1H
BEGIN:VTIMEZONE
TZID:Australia/Perth
BEGIN:STANDARD
TZOFFSETFROM:+0800
TZOFFSETTO:+0800
TZNAME:AWST
DTSTART:20250101T000000
END:STANDARD
END:VTIMEZONE
BEGIN:VEVENT
DTSTART;TZID=Australia/Perth:20260305T084500
DTEND;TZID=Australia/Perth:20260305T094500
DTSTAMP:20260425T062728
CREATED:20260224T013856Z
LAST-MODIFIED:20260224T013856Z
UID:10007074-1772700300-1772703900@forestcrescentps.com
SUMMARY:R13 Junior Assembly
DESCRIPTION:Room 13 presents their item\, and Honour Certificates are awarded. All honour certificate recipients would have had an email\, teacher\, or SMS message sent to their parents beforehand.
URL:https://forestcrescentps.com/event/r13-junior-assembly-2/
CATEGORIES:Junior Primary
END:VEVENT
END:VCALENDAR