BEGIN:VCALENDAR
VERSION:2.0
PRODID:-//Forest Crescent PS - ECPv6.15.20//NONSGML v1.0//EN
CALSCALE:GREGORIAN
METHOD:PUBLISH
X-ORIGINAL-URL:https://forestcrescentps.com
X-WR-CALDESC:Events for Forest Crescent PS
REFRESH-INTERVAL;VALUE=DURATION:PT1H
X-Robots-Tag:noindex
X-PUBLISHED-TTL:PT1H
BEGIN:VTIMEZONE
TZID:Australia/Perth
BEGIN:STANDARD
TZOFFSETFROM:+0800
TZOFFSETTO:+0800
TZNAME:AWST
DTSTART:20230101T000000
END:STANDARD
END:VTIMEZONE
BEGIN:VEVENT
DTSTART;TZID=Australia/Perth:20251023T084500
DTEND;TZID=Australia/Perth:20251023T094500
DTSTAMP:20260425T060948
CREATED:20250509T011031Z
LAST-MODIFIED:20250509T011031Z
UID:10006669-1761209100-1761212700@forestcrescentps.com
SUMMARY:R1 Junior Assembly
DESCRIPTION:Room 1 presents their item\, and Honour Certificates are awarded. All honour certificate recipients would have had an email\, teacher\, or SMS message sent to their parents beforehand.
URL:https://forestcrescentps.com/event/r1-junior-assembly-2/
LOCATION:WA
CATEGORIES:Junior Primary
END:VEVENT
BEGIN:VEVENT
DTSTART;VALUE=DATE:20250924
DTEND;VALUE=DATE:20250925
DTSTAMP:20260425T060948
CREATED:20250807T062750Z
LAST-MODIFIED:20250807T062750Z
UID:10006732-1758700800-1758733200@forestcrescentps.com
SUMMARY:Year 1 Kalamunda History Village
DESCRIPTION:In week 10 of this term\, the Year 1 students in Rooms 6\, 7\, 8 and 9 will have the opportunity to go on an excursion to the Kalamunda History Village to gain an understanding of the daily life lived by families in the olden days of WA history. \nThe students (two classes at a time) will visit the Kalamunda History Village by bus on Monday\, 22nd September\, and Wednesday\, 24th September\, Week 10. \nThe students must come dressed in school uniform (no faction shirts) and closed shoes. They must also bring their school hat\, water bottle\, recess and lunch and be prepared for wet weather.
URL:https://forestcrescentps.com/event/year-1-kalamunda-history-village-3/2025-09-24/
LOCATION:WA
CATEGORIES:Junior Primary
ATTACH;FMTTYPE=image/jpeg:https://forestcrescentps.com/wp-content/uploads/2019/06/KHV.jpg
END:VEVENT
BEGIN:VEVENT
DTSTART;VALUE=DATE:20250922
DTEND;VALUE=DATE:20250923
DTSTAMP:20260425T060948
CREATED:20250807T062750Z
LAST-MODIFIED:20250807T062750Z
UID:10006731-1758499200-1758585599@forestcrescentps.com
SUMMARY:Year 1 Kalamunda History Village
DESCRIPTION:In week 10 of this term\, the Year 1 students in Rooms 6\, 7\, 8 and 9 will have the opportunity to go on an excursion to the Kalamunda History Village to gain an understanding of the daily life lived by families in the olden days of WA history. \nThe students (two classes at a time) will visit the Kalamunda History Village by bus on Monday\, 22nd September\, and Wednesday\, 24th September\, Week 10. \nThe students must come dressed in school uniform (no faction shirts) and closed shoes. They must also bring their school hat\, water bottle\, recess and lunch and be prepared for wet weather.
URL:https://forestcrescentps.com/event/year-1-kalamunda-history-village-3/2025-09-22/
LOCATION:WA
CATEGORIES:Junior Primary
ATTACH;FMTTYPE=image/jpeg:https://forestcrescentps.com/wp-content/uploads/2019/06/KHV.jpg
END:VEVENT
BEGIN:VEVENT
DTSTART;TZID=Australia/Perth:20250911T084500
DTEND;TZID=Australia/Perth:20250911T094500
DTSTAMP:20260425T060948
CREATED:20250508T054854Z
LAST-MODIFIED:20250508T054917Z
UID:10006665-1757580300-1757583900@forestcrescentps.com
SUMMARY:R11 Junior Assembly
DESCRIPTION:Room 11 presents their item\, and Honour Certificates are awarded. All honour certificate recipients would have had an email\, teacher\, or SMS message sent to their parents beforehand.
URL:https://forestcrescentps.com/event/r11-junior-assembly-3/
LOCATION:WA
CATEGORIES:Junior Primary
END:VEVENT
BEGIN:VEVENT
DTSTART;TZID=Australia/Perth:20250731T084500
DTEND;TZID=Australia/Perth:20250731T094500
DTSTAMP:20260425T060948
CREATED:20250508T053117Z
LAST-MODIFIED:20250508T053117Z
UID:10006660-1753951500-1753955100@forestcrescentps.com
SUMMARY:R6 Junior Assembly
DESCRIPTION:Room 6 presents their item\, and Honour Certificates are awarded. All honour certificate recipients would have had an email\, teacher\, or SMS message sent to their parents beforehand.
URL:https://forestcrescentps.com/event/r6-junior-assembly/
LOCATION:WA
CATEGORIES:Junior Primary
END:VEVENT
BEGIN:VEVENT
DTSTART;TZID=Australia/Perth:20250619T084500
DTEND;TZID=Australia/Perth:20250619T094500
DTSTAMP:20260425T060948
CREATED:20250430T005941Z
LAST-MODIFIED:20250430T005941Z
UID:10006289-1750322700-1750326300@forestcrescentps.com
SUMMARY:R8 Junior Assembly
DESCRIPTION:Room 8 presents their item\, and Honour Certificates are awarded. All honour certificate recipients would have had an email\, teacher\, or SMS message sent to their parents beforehand.
URL:https://forestcrescentps.com/event/r8-junior-assembly/
LOCATION:WA
CATEGORIES:Junior Primary
END:VEVENT
BEGIN:VEVENT
DTSTART;TZID=Australia/Perth:20250605T084500
DTEND;TZID=Australia/Perth:20250605T094500
DTSTAMP:20260425T060948
CREATED:20250430T005723Z
LAST-MODIFIED:20250430T005723Z
UID:10006287-1749113100-1749116700@forestcrescentps.com
SUMMARY:R4 Junior Assembly
DESCRIPTION:Room 4 presents their item\, and Honour Certificates are awarded. All honour certificate recipients would have had an email\, teacher\, or SMS message sent to their parents beforehand.
URL:https://forestcrescentps.com/event/r4-junior-assembly-2/
LOCATION:WA
CATEGORIES:Junior Primary,Kindy and Pre-Primary
END:VEVENT
BEGIN:VEVENT
DTSTART;TZID=Australia/Perth:20250522T084500
DTEND;TZID=Australia/Perth:20250522T094500
DTSTAMP:20260425T060948
CREATED:20250430T005250Z
LAST-MODIFIED:20250430T005250Z
UID:10006285-1747903500-1747907100@forestcrescentps.com
SUMMARY:R7 Junior Assembly
DESCRIPTION:Room 7 presents their item\, and Honour Certificates are awarded. All honour certificate recipients would have had an email\, teacher\, or SMS message sent to their parents beforehand.
URL:https://forestcrescentps.com/event/r7-junior-assembly/
LOCATION:WA
CATEGORIES:Junior Primary
END:VEVENT
BEGIN:VEVENT
DTSTART;TZID=Australia/Perth:20250508T084500
DTEND;TZID=Australia/Perth:20250508T094500
DTSTAMP:20260425T060948
CREATED:20250430T003359Z
LAST-MODIFIED:20250430T003610Z
UID:10006283-1746693900-1746697500@forestcrescentps.com
SUMMARY:R13 Junior Assembly
DESCRIPTION:Room 13 presents their item\, and Honour Certificates are awarded. All honour certificate recipients would have had an email\, teacher\, or SMS message sent to their parents beforehand.
URL:https://forestcrescentps.com/event/r13-junior-assembly/
LOCATION:WA
CATEGORIES:Junior Primary
END:VEVENT
BEGIN:VEVENT
DTSTART;TZID=Australia/Perth:20250409T114500
DTEND;TZID=Australia/Perth:20250409T150000
DTSTAMP:20260425T060948
CREATED:20250204T090147Z
LAST-MODIFIED:20250328T072251Z
UID:10006032-1744199100-1744210800@forestcrescentps.com
SUMMARY:Year 1 Drama Excursion-Spare Parts Puppet Theatre
DESCRIPTION:Unlock the wonder of friendship and curiosity in The Little Prince\, a timeless story that invites you to explore the world with fresh eyes. \nFollow a curious prince on his wanderings across the universe as he meets some oddball grown-ups who think that power\, money and celebrity matter more than love. On Earth\, he meets a cunning snake\, a wild fox\, and an airman who crashed his plane into the desert. With water in short supply\, will they make it home again? \nWith its humour\, clever storytelling\, and beautifully crafted puppets\, The Little Prince will tickle your imagination and warm your soul with its enduring call to “see with your heart.” \nAs part of our drama program\, Year 1s are going on an excursion to watch a production of “The Little Prince” by The Spare Parts Puppet Theatre. The performance will take place at the Ellie Eaton Theatre\, located at Claremont Showgrounds. \nStudents will be transported via bus to Claremont\, where they will be part of the audience and will experience a live theatre performance. Your child(ren) will need to be in full school uniform and bring a labelled bottle of water. \nWe will have an early lunch around 11.20am before we leave for the theatre at 11.45am. Straight after the performance\, we will return to school. The canteen will NOT be able to cater for lunch for us on this day as it is too soon after recess\, so please ensure you provide lunch for your child(ren) on this day.
URL:https://forestcrescentps.com/event/year-1-drama-excursion-spare-parts-puppet-theatre/
LOCATION:Ellie Eaton Theatre\, Ellie Eaton Pavilion\, Claremont\, WA - Western Australia\, 6010\, Australia
CATEGORIES:Junior Primary
ATTACH;FMTTYPE=image/jpeg:https://forestcrescentps.com/wp-content/uploads/2025/02/Little-Prince.jpg
END:VEVENT
BEGIN:VEVENT
DTSTART;TZID=Australia/Perth:20250403T081500
DTEND;TZID=Australia/Perth:20250403T091500
DTSTAMP:20260425T060948
CREATED:20250206T041104Z
LAST-MODIFIED:20250206T041104Z
UID:10006055-1743668100-1743671700@forestcrescentps.com
SUMMARY:R9 Junior Assembly
DESCRIPTION:Room 9 presents their item\, and Honour Certificates are awarded. All honour certificate recipients would have had an email\, teacher\, or SMS message sent to their parents beforehand.
URL:https://forestcrescentps.com/event/r9-junior-assembly-2/
LOCATION:WA
CATEGORIES:Junior Primary,Kindy and Pre-Primary
END:VEVENT
BEGIN:VEVENT
DTSTART;TZID=Australia/Perth:20250326T083000
DTEND;TZID=Australia/Perth:20250326T133000
DTSTAMP:20260425T060948
CREATED:20250304T061210Z
LAST-MODIFIED:20250304T061327Z
UID:10006076-1742977800-1742995800@forestcrescentps.com
SUMMARY:Year 1 Excursion Constable Care Safety School
DESCRIPTION:The Year 1 students have the opportunity to go on an excursion to the Constable Care Safety School in Maylands. \nStudents will experience the Safety School as pedestrians and cyclists and learn and practice road and public transport safety skills in a simulated experiential learning environment. \nThe students will visit the Safety School by bus\, on the following dates: \n\n25th March-Rooms 7 & 8\n26th March-Rooms 6 & 9\n\nThe bus will be leaving school at 8.30am\, and students will return to school at approximately 1.15pm. \nWhat to bring  \nStudents and parent helpers need to bring the following in a small backpack: \n\nSnack for morning tea\nwater bottle\nsun protective hat\nenclosed shoes\nSchool uniform (clothes for adult helpers) suitable for riding bikes\nlong hair tied low to allow for helmets to be worn\n\nPlease note that school bags and lunches need to be left at your child’s classroom at school.
URL:https://forestcrescentps.com/event/year-1-excursion-constable-care-safety-school/2025-03-26/
LOCATION:WA
CATEGORIES:Junior Primary
ATTACH;FMTTYPE=image/jpeg:https://forestcrescentps.com/wp-content/uploads/2024/03/Safety-School.jpeg
END:VEVENT
BEGIN:VEVENT
DTSTART;TZID=Australia/Perth:20250325T083000
DTEND;TZID=Australia/Perth:20250325T133000
DTSTAMP:20260425T060948
CREATED:20250304T061210Z
LAST-MODIFIED:20250304T061327Z
UID:10006075-1742891400-1742909400@forestcrescentps.com
SUMMARY:Year 1 Excursion Constable Care Safety School
DESCRIPTION:The Year 1 students have the opportunity to go on an excursion to the Constable Care Safety School in Maylands. \nStudents will experience the Safety School as pedestrians and cyclists and learn and practice road and public transport safety skills in a simulated experiential learning environment. \nThe students will visit the Safety School by bus\, on the following dates: \n\n25th March-Rooms 7 & 8\n26th March-Rooms 6 & 9\n\nThe bus will be leaving school at 8.30am\, and students will return to school at approximately 1.15pm. \nWhat to bring  \nStudents and parent helpers need to bring the following in a small backpack: \n\nSnack for morning tea\nwater bottle\nsun protective hat\nenclosed shoes\nSchool uniform (clothes for adult helpers) suitable for riding bikes\nlong hair tied low to allow for helmets to be worn\n\nPlease note that school bags and lunches need to be left at your child’s classroom at school.
URL:https://forestcrescentps.com/event/year-1-excursion-constable-care-safety-school/2025-03-25/
LOCATION:WA
CATEGORIES:Junior Primary
ATTACH;FMTTYPE=image/jpeg:https://forestcrescentps.com/wp-content/uploads/2024/03/Safety-School.jpeg
END:VEVENT
BEGIN:VEVENT
DTSTART;TZID=Australia/Perth:20250306T084500
DTEND;TZID=Australia/Perth:20250306T094500
DTSTAMP:20260425T060948
CREATED:20250206T040651Z
LAST-MODIFIED:20250206T040651Z
UID:10006053-1741250700-1741254300@forestcrescentps.com
SUMMARY:R11 Junior Assembly
DESCRIPTION:Room 11 presents their item\, and Honour Certificates are awarded. All honour certificate recipients would have had an email\, teacher\, or SMS message sent to their parents beforehand.
URL:https://forestcrescentps.com/event/r11-junior-assembly-6/
LOCATION:WA
CATEGORIES:Junior Primary,Kindy and Pre-Primary
END:VEVENT
BEGIN:VEVENT
DTSTART;VALUE=DATE:20241126
DTEND;VALUE=DATE:20241127
DTSTAMP:20260425T060948
CREATED:20240909T052358Z
LAST-MODIFIED:20240909T052358Z
UID:10005490-1732579200-1732665599@forestcrescentps.com
SUMMARY:Year Two Kings Park Excursion
DESCRIPTION:More information to follow
URL:https://forestcrescentps.com/event/year-two-kings-park-excursion/
LOCATION:Kings Park\, Kings Park\, Perth\, WA\, 6005\, Australia
CATEGORIES:Junior Primary
ATTACH;FMTTYPE=image/jpeg:https://forestcrescentps.com/wp-content/uploads/2020/06/Kings-Park.jpg
GEO:-31.9643088;115.8314731
X-APPLE-STRUCTURED-LOCATION;VALUE=URI;X-ADDRESS=Kings Park Kings Park Perth WA 6005 Australia;X-APPLE-RADIUS=500;X-TITLE=Kings Park:geo:115.8314731,-31.9643088
END:VEVENT
BEGIN:VEVENT
DTSTART;TZID=Australia/Perth:20241121T084500
DTEND;TZID=Australia/Perth:20241121T094500
DTSTAMP:20260425T060948
CREATED:20241022T022144Z
LAST-MODIFIED:20241022T022144Z
UID:10005960-1732178700-1732182300@forestcrescentps.com
SUMMARY:Room 3 Junior Assembly
DESCRIPTION:Room 3 presents their item. If your child was awarded FCPS Citizen of the Month\, all parents would have been notified verbally\, and all honour certificate recipients would have received an email\, teacher\, or SMS message.
URL:https://forestcrescentps.com/event/room-3-junior-assembly/
LOCATION:WA
CATEGORIES:Junior Primary
END:VEVENT
BEGIN:VEVENT
DTSTART;VALUE=DATE:20241115
DTEND;VALUE=DATE:20241116
DTSTAMP:20260425T060948
CREATED:20230814T043602Z
LAST-MODIFIED:20241017T024837Z
UID:10003302-1731628800-1731715199@forestcrescentps.com
SUMMARY:2024 In-Term Swimming PP-Yr 3
DESCRIPTION:In-term swimming lessons for PP—Year 3 students are an integral part of the Department of Education’s Physical Education Program\, and the Department of Education covers the costs of the swimming tuition. Swimming schedule found here \nDownload PP-Yr3 Swimming 2024 Permission Forms
URL:https://forestcrescentps.com/event/2024-in-term-swimming-pp-yr-3/2024-11-15/
LOCATION:Gosnells Leisureworld\, Thornlie Ave & Culross Ave\, Thornlie\, WA\, 6108\, Australia
CATEGORIES:Junior Primary,Kindy and Pre-Primary,Middle Primary
ATTACH;FMTTYPE=image/jpeg:https://forestcrescentps.com/wp-content/uploads/2019/08/gosnells-pool2-e1572091852125.jpg
GEO:-32.0535809;115.9642976
X-APPLE-STRUCTURED-LOCATION;VALUE=URI;X-ADDRESS=Gosnells Leisureworld Thornlie Ave & Culross Ave Thornlie WA 6108 Australia;X-APPLE-RADIUS=500;X-TITLE=Thornlie Ave & Culross Ave:geo:115.9642976,-32.0535809
END:VEVENT
BEGIN:VEVENT
DTSTART;VALUE=DATE:20241114
DTEND;VALUE=DATE:20241115
DTSTAMP:20260425T060948
CREATED:20230814T043602Z
LAST-MODIFIED:20241017T024837Z
UID:10003301-1731542400-1731628799@forestcrescentps.com
SUMMARY:2024 In-Term Swimming PP-Yr 3
DESCRIPTION:In-term swimming lessons for PP—Year 3 students are an integral part of the Department of Education’s Physical Education Program\, and the Department of Education covers the costs of the swimming tuition. Swimming schedule found here \nDownload PP-Yr3 Swimming 2024 Permission Forms
URL:https://forestcrescentps.com/event/2024-in-term-swimming-pp-yr-3/2024-11-14/
LOCATION:Gosnells Leisureworld\, Thornlie Ave & Culross Ave\, Thornlie\, WA\, 6108\, Australia
CATEGORIES:Junior Primary,Kindy and Pre-Primary,Middle Primary
ATTACH;FMTTYPE=image/jpeg:https://forestcrescentps.com/wp-content/uploads/2019/08/gosnells-pool2-e1572091852125.jpg
GEO:-32.0535809;115.9642976
X-APPLE-STRUCTURED-LOCATION;VALUE=URI;X-ADDRESS=Gosnells Leisureworld Thornlie Ave & Culross Ave Thornlie WA 6108 Australia;X-APPLE-RADIUS=500;X-TITLE=Thornlie Ave & Culross Ave:geo:115.9642976,-32.0535809
END:VEVENT
BEGIN:VEVENT
DTSTART;VALUE=DATE:20241113
DTEND;VALUE=DATE:20241114
DTSTAMP:20260425T060948
CREATED:20230814T043602Z
LAST-MODIFIED:20241017T024837Z
UID:10003300-1731456000-1731542399@forestcrescentps.com
SUMMARY:2024 In-Term Swimming PP-Yr 3
DESCRIPTION:In-term swimming lessons for PP—Year 3 students are an integral part of the Department of Education’s Physical Education Program\, and the Department of Education covers the costs of the swimming tuition. Swimming schedule found here \nDownload PP-Yr3 Swimming 2024 Permission Forms
URL:https://forestcrescentps.com/event/2024-in-term-swimming-pp-yr-3/2024-11-13/
LOCATION:Gosnells Leisureworld\, Thornlie Ave & Culross Ave\, Thornlie\, WA\, 6108\, Australia
CATEGORIES:Junior Primary,Kindy and Pre-Primary,Middle Primary
ATTACH;FMTTYPE=image/jpeg:https://forestcrescentps.com/wp-content/uploads/2019/08/gosnells-pool2-e1572091852125.jpg
GEO:-32.0535809;115.9642976
X-APPLE-STRUCTURED-LOCATION;VALUE=URI;X-ADDRESS=Gosnells Leisureworld Thornlie Ave & Culross Ave Thornlie WA 6108 Australia;X-APPLE-RADIUS=500;X-TITLE=Thornlie Ave & Culross Ave:geo:115.9642976,-32.0535809
END:VEVENT
BEGIN:VEVENT
DTSTART;VALUE=DATE:20241112
DTEND;VALUE=DATE:20241113
DTSTAMP:20260425T060948
CREATED:20230814T043602Z
LAST-MODIFIED:20241017T024837Z
UID:10003299-1731369600-1731455999@forestcrescentps.com
SUMMARY:2024 In-Term Swimming PP-Yr 3
DESCRIPTION:In-term swimming lessons for PP—Year 3 students are an integral part of the Department of Education’s Physical Education Program\, and the Department of Education covers the costs of the swimming tuition. Swimming schedule found here \nDownload PP-Yr3 Swimming 2024 Permission Forms
URL:https://forestcrescentps.com/event/2024-in-term-swimming-pp-yr-3/2024-11-12/
LOCATION:Gosnells Leisureworld\, Thornlie Ave & Culross Ave\, Thornlie\, WA\, 6108\, Australia
CATEGORIES:Junior Primary,Kindy and Pre-Primary,Middle Primary
ATTACH;FMTTYPE=image/jpeg:https://forestcrescentps.com/wp-content/uploads/2019/08/gosnells-pool2-e1572091852125.jpg
GEO:-32.0535809;115.9642976
X-APPLE-STRUCTURED-LOCATION;VALUE=URI;X-ADDRESS=Gosnells Leisureworld Thornlie Ave & Culross Ave Thornlie WA 6108 Australia;X-APPLE-RADIUS=500;X-TITLE=Thornlie Ave & Culross Ave:geo:115.9642976,-32.0535809
END:VEVENT
BEGIN:VEVENT
DTSTART;VALUE=DATE:20241111
DTEND;VALUE=DATE:20241112
DTSTAMP:20260425T060948
CREATED:20230814T043602Z
LAST-MODIFIED:20241017T024837Z
UID:10003298-1731283200-1731369599@forestcrescentps.com
SUMMARY:2024 In-Term Swimming PP-Yr 3
DESCRIPTION:In-term swimming lessons for PP—Year 3 students are an integral part of the Department of Education’s Physical Education Program\, and the Department of Education covers the costs of the swimming tuition. Swimming schedule found here \nDownload PP-Yr3 Swimming 2024 Permission Forms
URL:https://forestcrescentps.com/event/2024-in-term-swimming-pp-yr-3/2024-11-11/
LOCATION:Gosnells Leisureworld\, Thornlie Ave & Culross Ave\, Thornlie\, WA\, 6108\, Australia
CATEGORIES:Junior Primary,Kindy and Pre-Primary,Middle Primary
ATTACH;FMTTYPE=image/jpeg:https://forestcrescentps.com/wp-content/uploads/2019/08/gosnells-pool2-e1572091852125.jpg
GEO:-32.0535809;115.9642976
X-APPLE-STRUCTURED-LOCATION;VALUE=URI;X-ADDRESS=Gosnells Leisureworld Thornlie Ave & Culross Ave Thornlie WA 6108 Australia;X-APPLE-RADIUS=500;X-TITLE=Thornlie Ave & Culross Ave:geo:115.9642976,-32.0535809
END:VEVENT
BEGIN:VEVENT
DTSTART;VALUE=DATE:20241108
DTEND;VALUE=DATE:20241109
DTSTAMP:20260425T060948
CREATED:20230814T043602Z
LAST-MODIFIED:20241017T024837Z
UID:10003297-1731024000-1731110399@forestcrescentps.com
SUMMARY:2024 In-Term Swimming PP-Yr 3
DESCRIPTION:In-term swimming lessons for PP—Year 3 students are an integral part of the Department of Education’s Physical Education Program\, and the Department of Education covers the costs of the swimming tuition. Swimming schedule found here \nDownload PP-Yr3 Swimming 2024 Permission Forms
URL:https://forestcrescentps.com/event/2024-in-term-swimming-pp-yr-3/2024-11-08/
LOCATION:Gosnells Leisureworld\, Thornlie Ave & Culross Ave\, Thornlie\, WA\, 6108\, Australia
CATEGORIES:Junior Primary,Kindy and Pre-Primary,Middle Primary
ATTACH;FMTTYPE=image/jpeg:https://forestcrescentps.com/wp-content/uploads/2019/08/gosnells-pool2-e1572091852125.jpg
GEO:-32.0535809;115.9642976
X-APPLE-STRUCTURED-LOCATION;VALUE=URI;X-ADDRESS=Gosnells Leisureworld Thornlie Ave & Culross Ave Thornlie WA 6108 Australia;X-APPLE-RADIUS=500;X-TITLE=Thornlie Ave & Culross Ave:geo:115.9642976,-32.0535809
END:VEVENT
BEGIN:VEVENT
DTSTART;VALUE=DATE:20241107
DTEND;VALUE=DATE:20241108
DTSTAMP:20260425T060948
CREATED:20230814T043602Z
LAST-MODIFIED:20241017T024837Z
UID:10003296-1730937600-1731023999@forestcrescentps.com
SUMMARY:2024 In-Term Swimming PP-Yr 3
DESCRIPTION:In-term swimming lessons for PP—Year 3 students are an integral part of the Department of Education’s Physical Education Program\, and the Department of Education covers the costs of the swimming tuition. Swimming schedule found here \nDownload PP-Yr3 Swimming 2024 Permission Forms
URL:https://forestcrescentps.com/event/2024-in-term-swimming-pp-yr-3/2024-11-07/
LOCATION:Gosnells Leisureworld\, Thornlie Ave & Culross Ave\, Thornlie\, WA\, 6108\, Australia
CATEGORIES:Junior Primary,Kindy and Pre-Primary,Middle Primary
ATTACH;FMTTYPE=image/jpeg:https://forestcrescentps.com/wp-content/uploads/2019/08/gosnells-pool2-e1572091852125.jpg
GEO:-32.0535809;115.9642976
X-APPLE-STRUCTURED-LOCATION;VALUE=URI;X-ADDRESS=Gosnells Leisureworld Thornlie Ave & Culross Ave Thornlie WA 6108 Australia;X-APPLE-RADIUS=500;X-TITLE=Thornlie Ave & Culross Ave:geo:115.9642976,-32.0535809
END:VEVENT
BEGIN:VEVENT
DTSTART;VALUE=DATE:20241106
DTEND;VALUE=DATE:20241107
DTSTAMP:20260425T060948
CREATED:20230814T043602Z
LAST-MODIFIED:20241017T024837Z
UID:10003295-1730851200-1730937599@forestcrescentps.com
SUMMARY:2024 In-Term Swimming PP-Yr 3
DESCRIPTION:In-term swimming lessons for PP—Year 3 students are an integral part of the Department of Education’s Physical Education Program\, and the Department of Education covers the costs of the swimming tuition. Swimming schedule found here \nDownload PP-Yr3 Swimming 2024 Permission Forms
URL:https://forestcrescentps.com/event/2024-in-term-swimming-pp-yr-3/2024-11-06/
LOCATION:Gosnells Leisureworld\, Thornlie Ave & Culross Ave\, Thornlie\, WA\, 6108\, Australia
CATEGORIES:Junior Primary,Kindy and Pre-Primary,Middle Primary
ATTACH;FMTTYPE=image/jpeg:https://forestcrescentps.com/wp-content/uploads/2019/08/gosnells-pool2-e1572091852125.jpg
GEO:-32.0535809;115.9642976
X-APPLE-STRUCTURED-LOCATION;VALUE=URI;X-ADDRESS=Gosnells Leisureworld Thornlie Ave & Culross Ave Thornlie WA 6108 Australia;X-APPLE-RADIUS=500;X-TITLE=Thornlie Ave & Culross Ave:geo:115.9642976,-32.0535809
END:VEVENT
BEGIN:VEVENT
DTSTART;VALUE=DATE:20241105
DTEND;VALUE=DATE:20241106
DTSTAMP:20260425T060948
CREATED:20230814T043602Z
LAST-MODIFIED:20241017T024837Z
UID:10003294-1730764800-1730851199@forestcrescentps.com
SUMMARY:2024 In-Term Swimming PP-Yr 3
DESCRIPTION:In-term swimming lessons for PP—Year 3 students are an integral part of the Department of Education’s Physical Education Program\, and the Department of Education covers the costs of the swimming tuition. Swimming schedule found here \nDownload PP-Yr3 Swimming 2024 Permission Forms
URL:https://forestcrescentps.com/event/2024-in-term-swimming-pp-yr-3/2024-11-05/
LOCATION:Gosnells Leisureworld\, Thornlie Ave & Culross Ave\, Thornlie\, WA\, 6108\, Australia
CATEGORIES:Junior Primary,Kindy and Pre-Primary,Middle Primary
ATTACH;FMTTYPE=image/jpeg:https://forestcrescentps.com/wp-content/uploads/2019/08/gosnells-pool2-e1572091852125.jpg
GEO:-32.0535809;115.9642976
X-APPLE-STRUCTURED-LOCATION;VALUE=URI;X-ADDRESS=Gosnells Leisureworld Thornlie Ave & Culross Ave Thornlie WA 6108 Australia;X-APPLE-RADIUS=500;X-TITLE=Thornlie Ave & Culross Ave:geo:115.9642976,-32.0535809
END:VEVENT
BEGIN:VEVENT
DTSTART;VALUE=DATE:20241104
DTEND;VALUE=DATE:20241105
DTSTAMP:20260425T060948
CREATED:20230814T043602Z
LAST-MODIFIED:20241017T024837Z
UID:10003293-1730678400-1730764799@forestcrescentps.com
SUMMARY:2024 In-Term Swimming PP-Yr 3
DESCRIPTION:In-term swimming lessons for PP—Year 3 students are an integral part of the Department of Education’s Physical Education Program\, and the Department of Education covers the costs of the swimming tuition. Swimming schedule found here \nDownload PP-Yr3 Swimming 2024 Permission Forms
URL:https://forestcrescentps.com/event/2024-in-term-swimming-pp-yr-3/2024-11-04/
LOCATION:Gosnells Leisureworld\, Thornlie Ave & Culross Ave\, Thornlie\, WA\, 6108\, Australia
CATEGORIES:Junior Primary,Kindy and Pre-Primary,Middle Primary
ATTACH;FMTTYPE=image/jpeg:https://forestcrescentps.com/wp-content/uploads/2019/08/gosnells-pool2-e1572091852125.jpg
GEO:-32.0535809;115.9642976
X-APPLE-STRUCTURED-LOCATION;VALUE=URI;X-ADDRESS=Gosnells Leisureworld Thornlie Ave & Culross Ave Thornlie WA 6108 Australia;X-APPLE-RADIUS=500;X-TITLE=Thornlie Ave & Culross Ave:geo:115.9642976,-32.0535809
END:VEVENT
BEGIN:VEVENT
DTSTART;TZID=Australia/Perth:20241017T084500
DTEND;TZID=Australia/Perth:20241017T094500
DTSTAMP:20260425T060948
CREATED:20241022T021509Z
LAST-MODIFIED:20241022T021509Z
UID:10005957-1729154700-1729158300@forestcrescentps.com
SUMMARY:Room 2 Junior Assembly
DESCRIPTION:Room 2 presents their item. If your child was awarded FCPS Citizen of the Month\, all parents would have been notified verbally\, and all honour certificate recipients would have received an email\, teacher\, or SMS message.
URL:https://forestcrescentps.com/event/room-2-junior-assembly/
LOCATION:WA
CATEGORIES:Junior Primary
END:VEVENT
BEGIN:VEVENT
DTSTART;VALUE=DATE:20240903
DTEND;VALUE=DATE:20240904
DTSTAMP:20260425T060948
CREATED:20240714T042742Z
LAST-MODIFIED:20240714T043425Z
UID:10004590-1725321600-1725407999@forestcrescentps.com
SUMMARY:Year 1 Kalamunda History Village
DESCRIPTION:In week 8 of this term\, the Year 1 students in Rooms 6\, 7\, and 8 will have the opportunity to go on an excursion to the Kalamunda History Village to gain an understanding of the daily life lived by families in the olden days of WA history. \nThe students will visit the Kalamunda History Village by bus on 3rd September\, Week 8. \nThe students must come dressed in school uniform (no faction shirts) and closed shoes. They must also bring their school hat\, water bottle\, recess and lunch and be prepared for wet weather.
URL:https://forestcrescentps.com/event/year-1-kalamunda-history-village-2/
LOCATION:Kalamunda History Village\, Railway Rd\, Kalamunda WA 6076\, WA\, 6076\, Australia
CATEGORIES:Junior Primary
ATTACH;FMTTYPE=image/jpeg:https://forestcrescentps.com/wp-content/uploads/2019/06/KHV.jpg
GEO:-31.9707504;116.0593675
X-APPLE-STRUCTURED-LOCATION;VALUE=URI;X-ADDRESS=Kalamunda History Village Railway Rd Kalamunda WA 6076 WA 6076 Australia;X-APPLE-RADIUS=500;X-TITLE=Railway Rd:geo:116.0593675,-31.9707504
END:VEVENT
BEGIN:VEVENT
DTSTART;TZID=Australia/Perth:20240829T084500
DTEND;TZID=Australia/Perth:20240829T094500
DTSTAMP:20260425T060948
CREATED:20240714T052524Z
LAST-MODIFIED:20250206T040354Z
UID:10004598-1724921100-1724924700@forestcrescentps.com
SUMMARY:R13 Junior Assembly
DESCRIPTION:Room 13 presents their item\, and Honour Certificates are awarded. All honour certificate recipients would have had an email\, teacher\, or SMS message sent to their parents beforehand.
URL:https://forestcrescentps.com/event/r13-junior-assembly-4/
LOCATION:WA
CATEGORIES:Junior Primary
END:VEVENT
BEGIN:VEVENT
DTSTART;TZID=Australia/Perth:20240808T084500
DTEND;TZID=Australia/Perth:20240808T094500
DTSTAMP:20260425T060948
CREATED:20240714T052245Z
LAST-MODIFIED:20250206T040331Z
UID:10004597-1723106700-1723110300@forestcrescentps.com
SUMMARY:R12 Junior Assembly & FCPS Citizen of the Month
DESCRIPTION:Room 12 presents their item\, and the FCPS Citizen of the Month is awarded. If their child were to be awarded FCPS Citizen of the Month\, all parents would have been notified verbally\, and all honour certificate recipients would have received an email\, teacher\, or SMS message sent to their parents beforehand.
URL:https://forestcrescentps.com/event/r12-junior-assembly-fcps-citizen-of-the-month/
LOCATION:WA
CATEGORIES:Junior Primary
END:VEVENT
END:VCALENDAR