BEGIN:VCALENDAR
VERSION:2.0
PRODID:-//Forest Crescent PS - ECPv6.15.20//NONSGML v1.0//EN
CALSCALE:GREGORIAN
METHOD:PUBLISH
X-WR-CALNAME:Forest Crescent PS
X-ORIGINAL-URL:https://forestcrescentps.com
X-WR-CALDESC:Events for Forest Crescent PS
REFRESH-INTERVAL;VALUE=DURATION:PT1H
X-Robots-Tag:noindex
X-PUBLISHED-TTL:PT1H
BEGIN:VTIMEZONE
TZID:Australia/Perth
BEGIN:STANDARD
TZOFFSETFROM:+0800
TZOFFSETTO:+0800
TZNAME:AWST
DTSTART:20220101T000000
END:STANDARD
END:VTIMEZONE
BEGIN:VEVENT
DTSTART;TZID=Australia/Perth:20230427T084500
DTEND;TZID=Australia/Perth:20230427T094500
DTSTAMP:20260425T074909
CREATED:20230427T065553Z
LAST-MODIFIED:20230427T065553Z
UID:10003058-1682585100-1682588700@forestcrescentps.com
SUMMARY:R25 Senior Assembly
DESCRIPTION:Room 25 presents their item\, and Honour Certificates are awarded. All honour certificate recipients would have had an email and/or an SMS message sent.
URL:https://forestcrescentps.com/event/r25-senior-assembly-3/
LOCATION:WA
CATEGORIES:Middle Primary,Senior Primary
END:VEVENT
BEGIN:VEVENT
DTSTART;VALUE=DATE:20230425
DTEND;VALUE=DATE:20230426
DTSTAMP:20260425T074909
CREATED:20230203T060123Z
LAST-MODIFIED:20230203T060123Z
UID:10002929-1682380800-1682467199@forestcrescentps.com
SUMMARY:Anzac Day 2023
DESCRIPTION:Anzac Day is the solemn day of remembrance of those Australian and New Zealand Army Corps soldiers who have fought and died for their country and is marked annually on the anniversary of the Gallipoli campaign of the First World War.
URL:https://forestcrescentps.com/event/anzac-day-2023/
LOCATION:WA
CATEGORIES:Public Holidays
ATTACH;FMTTYPE=image/jpeg:https://forestcrescentps.com/wp-content/uploads/2021/03/Anzac2jpg.jpg
END:VEVENT
END:VCALENDAR